
BEGIN:VCALENDAR
VERSION:2.0
PRODID:-//Laboratoire de Mathématiques de Versailles - ECPv6.15.20//NONSGML v1.0//EN
CALSCALE:GREGORIAN
METHOD:PUBLISH
X-ORIGINAL-URL:https://lmv.math.cnrs.fr
X-WR-CALDESC:Évènements pour Laboratoire de Mathématiques de Versailles
REFRESH-INTERVAL;VALUE=DURATION:PT1H
X-Robots-Tag:noindex
X-PUBLISHED-TTL:PT1H
BEGIN:VTIMEZONE
TZID:Europe/Paris
BEGIN:DAYLIGHT
TZOFFSETFROM:+0100
TZOFFSETTO:+0200
TZNAME:CEST
DTSTART:20240331T010000
END:DAYLIGHT
BEGIN:STANDARD
TZOFFSETFROM:+0200
TZOFFSETTO:+0100
TZNAME:CET
DTSTART:20241027T010000
END:STANDARD
BEGIN:DAYLIGHT
TZOFFSETFROM:+0100
TZOFFSETTO:+0200
TZNAME:CEST
DTSTART:20250330T010000
END:DAYLIGHT
BEGIN:STANDARD
TZOFFSETFROM:+0200
TZOFFSETTO:+0100
TZNAME:CET
DTSTART:20251026T010000
END:STANDARD
BEGIN:DAYLIGHT
TZOFFSETFROM:+0100
TZOFFSETTO:+0200
TZNAME:CEST
DTSTART:20260329T010000
END:DAYLIGHT
BEGIN:STANDARD
TZOFFSETFROM:+0200
TZOFFSETTO:+0100
TZNAME:CET
DTSTART:20261025T010000
END:STANDARD
END:VTIMEZONE
BEGIN:VEVENT
DTSTART;VALUE=DATE:20250401
DTEND;VALUE=DATE:20250402
DTSTAMP:20260423T085434
CREATED:20250130T125124Z
LAST-MODIFIED:20250327T132324Z
UID:13639-1743465600-1743551999@lmv.math.cnrs.fr
SUMMARY:AG : Pas de séance (Journée du séminaire différentiel à Jussieu)
DESCRIPTION:Voir le programme ici.
URL:https://lmv.math.cnrs.fr/evenenement/ag-pas-de-seance-journee-du-seminaire-differentiel-a-jussieu/
CATEGORIES:Séminaire AG
END:VEVENT
BEGIN:VEVENT
DTSTART;TZID=Europe/Paris:20250404T100000
DTEND;TZID=Europe/Paris:20250404T110000
DTSTAMP:20260423T085434
CREATED:20240912T211517Z
LAST-MODIFIED:20250404T100657Z
UID:13137-1743760800-1743764400@lmv.math.cnrs.fr
SUMMARY:PS : Taher Jalal (LMV) : Non-parametric inference for Lévy processes with infinite jump activity
DESCRIPTION:Lévy processes with infinite jump activity present intricate stochastic dynamics. In this work\, we focus on the non-parametric estimation of the increment density for both the entire process and the small-jump component. We develop spectral estimators\, establish their convergence rates\, and achieve minimax optimality.  This study is conducted under various observation regimes\, including low- and high-frequency observations and with or without a Brownian component. Additionally\, we construct adaptive estimators and assess their performance through numerical studies on α-stable and tempered stable Lévy processes. Our results enhance statistical inference techniques for stochastic models driven by jump processes.
URL:https://lmv.math.cnrs.fr/evenenement/ps-taher-jalal-lmv/
LOCATION:Bâtiment Fermat\, salle 4205
CATEGORIES:Séminaire PS
END:VEVENT
BEGIN:VEVENT
DTSTART;TZID=Europe/Paris:20250404T113000
DTEND;TZID=Europe/Paris:20250404T123000
DTSTAMP:20260423T085434
CREATED:20240912T211718Z
LAST-MODIFIED:20250404T100702Z
UID:13139-1743766200-1743769800@lmv.math.cnrs.fr
SUMMARY:PS : Jakob Söhl (TU Delft) : Spectral calibration of time-inhomogeneous exponential Lévy models
DESCRIPTION:Empirical evidence shows that calibrating exponential Lévy models by options with different maturities leads to conflicting information. In other words\, the stationarity implicitly assumed in the exponential Lévy model is not satisfied. An identifiable time-inhomogeneous Lévy model is proposed that does not assume stationarity and that can integrate option prices from different maturities and different strike prices without leading to conflicting information. In the time-inhomogeneous Lévy model\, the convergence rates are derived\, and confidence intervals are shown for the estimators of the volatility\, the drift\, the intensity and the Lévy density. Previously\, confidence intervals have been constructed for time-homogeneous Lévy models in an idealized Gaussian white noise model. In the idealized Gaussian white noise model\, it is assumed that the observations are Gaussian and given continuously across the strike prices. This simplifies the analysis significantly. The confidence intervals are constructed in a discrete observation setting for time-inhomogeneous Lévy models\, and the only assumption on the errors is that they are sub-Gaussian. In particular\, all bounded errors with arbitrary distributions are covered. Additional results on the convergence rates extend existing results from time-homogeneous to time-inhomogeneous Lévy models.
URL:https://lmv.math.cnrs.fr/evenenement/ps-jakob-sohl-tu-delft/
LOCATION:Bâtiment Fermat\, salle 4205
CATEGORIES:Séminaire PS
END:VEVENT
BEGIN:VEVENT
DTSTART;TZID=Europe/Paris:20250408T133000
DTEND;TZID=Europe/Paris:20250408T153000
DTSTAMP:20260423T085434
CREATED:20250130T141548Z
LAST-MODIFIED:20250411T134425Z
UID:13645-1744119000-1744126200@lmv.math.cnrs.fr
SUMMARY:AG : Kieu Hieu Nguyen (LMV) : Cohomologie des variétés de Shimura avec coefficient de torsion.
DESCRIPTION:Dans cet exposé\, je vais introduire les variétés de Shimura et expliquer leurs rôles dans le programme de Langlands. Ensuite je vais parler de quelques résultats récents sur l’évanescence de la cohomologie des variétés de Shimura avec coefficient de torsion.
URL:https://lmv.math.cnrs.fr/evenenement/ag-kieu-hieu-nguyen-lmv/
LOCATION:Bâtiment Fermat\, salle 4205
CATEGORIES:Séminaire AG
END:VEVENT
BEGIN:VEVENT
DTSTART;TZID=Europe/Paris:20250408T163000
DTEND;TZID=Europe/Paris:20250408T173000
DTSTAMP:20260423T085434
CREATED:20250401T112859Z
LAST-MODIFIED:20250401T112859Z
UID:13933-1744129800-1744133400@lmv.math.cnrs.fr
SUMMARY:Séminaire des jeunes : Davide Ricci (LMV) : Some ideas on étale and ℓ-adic cohomology
DESCRIPTION:La prochaine séance du séminaire des jeunes aura lieu le mardi 8 Avril de 16h30 à 17h30 dans la salle de séminaires du laboratoire.\n\nL’orateur sera Davide Ricci\, doctorant en première année de thése dans l’équipe Algèbre et Géometrie. \nSome ideas on étale and ℓ-adic cohomology\n\nDuring the last century\, the Weil conjectures motivated the need for new cohomology theories for algebraic varieties over positive characteristic fields. The desired “good” properties are summarized in the Weil cohomology theory axioms. In the sixties\, Grothendieck established the foundations of étale cohomology\, with Artin and Serre\, and later ℓ-adic cohomology\, which provides the first example of such a theory. This is not the only one known nowadays\, but it is still studied and useful for working over positive characteristic fields and for arithmetic problems.\nThere will be presented the motivations for étale and ℓ-adic cohomology\, the main ideas of the constructions\, and a nice example of a relatively recent application to arithmetic geometry by Esnault. The last concerns the existence of solutions for homogeneous polynomials over finite fields. \nI will try to make the imprint of the talk more popularizing than rigorous.
URL:https://lmv.math.cnrs.fr/evenenement/seminaire-des-jeunes-davide-ricci-lmv-some-ideas-on-etale-and-%e2%84%93-adic-cohomology/
LOCATION:Bâtiment Fermat\, salle 4205
CATEGORIES:Séminaire des jeunes
END:VEVENT
BEGIN:VEVENT
DTSTART;TZID=Europe/Paris:20250410T140000
DTEND;TZID=Europe/Paris:20250410T150000
DTSTAMP:20260423T085434
CREATED:20250321T165526Z
LAST-MODIFIED:20250411T134443Z
UID:13898-1744293600-1744297200@lmv.math.cnrs.fr
SUMMARY:EDP : Romain Ducasse (Université Paris Cité) : Propagation properties for a multi-species SIR reaction-diffusion system
DESCRIPTION:Abstract : The SIR system is a reaction-diffusion model that describes the spread of diseases in a population. In this talk\, we present a multi-species version of this model\, describing the interactions between the propagation of different strains of a disease. The model takes the form of a system of coupled reaction-diffusion PDEs. We shall study the long-time behavior of solutions (convergence to equilibria\, speed of convergence…) and prove that there is a « selection via propagation » phenomenon.
URL:https://lmv.math.cnrs.fr/evenenement/edp-romain-ducasse-universite-paris-cite-propagation-properties-for-a-multi-species-sir-reaction-diffusion-system/
LOCATION:Bâtiment Fermat\, salle 4205
CATEGORIES:Séminaire EDP
END:VEVENT
BEGIN:VEVENT
DTSTART;TZID=Europe/Paris:20250410T153000
DTEND;TZID=Europe/Paris:20250410T163000
DTSTAMP:20260423T085434
CREATED:20250321T165231Z
LAST-MODIFIED:20250411T134452Z
UID:13896-1744299000-1744302600@lmv.math.cnrs.fr
SUMMARY:EDP : Ider Tseveendorj (LMV) : Conditions d’optimalité et séparation non linéaire en optimisation globale
DESCRIPTION:Résumé : Nous introduisons une nouvelle approximation non linéaire d’une fonction\, ainsi qu’une nouvelle notion de normale à un ensemble. Ces approximations permettent d’établir des conditions d’optimalité globale basées sur la séparation non linéaire\, constituant ainsi une amélioration par rapport à la séparation linéaire classique utilisée en optimisation convexe.
URL:https://lmv.math.cnrs.fr/evenenement/edp-ider-tseveendorj-lmv-conditions-doptimalite-et-separation-non-lineaire-en-optimisation-globale/
LOCATION:Bâtiment Fermat\, salle 4205
CATEGORIES:Séminaire EDP
END:VEVENT
BEGIN:VEVENT
DTSTART;TZID=Europe/Paris:20250411T100000
DTEND;TZID=Europe/Paris:20250411T110000
DTSTAMP:20260423T085434
CREATED:20240912T112700Z
LAST-MODIFIED:20250411T134501Z
UID:13130-1744365600-1744369200@lmv.math.cnrs.fr
SUMMARY:PS : Jérôme Dedecker (Université Paris Cité\, MAP5) : Coefficients de couplage pour la marche aléatoire sur GL_d(R)
DESCRIPTION:Nous donnons des estimées pour des coefficients de couplage d’une suite stationnaire associée à la marche aléatoire sur GL_d(R). Nous montrons ensuite comment ces coefficients peuvent être utilisés pour obtenir des résultats limite pour cette marche\, sous des conditions de moments “naturelles”. Travaux en collaboration avec C. Cuny\, C. Jan et F. Merlevède.
URL:https://lmv.math.cnrs.fr/evenenement/ps-jerome-dedecker-universite-paris-cite-map5/
LOCATION:Bâtiment Fermat\, salle 4205
CATEGORIES:Séminaire PS
END:VEVENT
BEGIN:VEVENT
DTSTART;TZID=Europe/Paris:20250411T113000
DTEND;TZID=Europe/Paris:20250411T123000
DTSTAMP:20260423T085434
CREATED:20240904T165405Z
LAST-MODIFIED:20250411T134508Z
UID:13104-1744371000-1744374600@lmv.math.cnrs.fr
SUMMARY:PS : Ronan Le Guevel (Université Rennes 2) : Estimation non-paramétrique de l'intensité de sauts d'un processus Birth-Death-Move
DESCRIPTION:Nous présentons un processus spatial de naissances et morts avec mouvement\, où la dynamique des naissances et des morts dépend de la configuration spatiale actuelle de la population et des déplacements possibles des individus au cours de leur vie. Nous abordons ensuite quelques propriétés probabilistes de ce processus (en particulier la propriété de Feller et l’ergodicité du processus). Nous donnons enfin une méthode non paramétrique à noyau pour l’estimation de la fonction d’intensité de saut du processus. Travail en collaboration avec E. Manent et F. Lavancier (ENSAI).
URL:https://lmv.math.cnrs.fr/evenenement/ps-ronan-le-guevel-universite-rennes-2/
LOCATION:Bâtiment Fermat\, salle 4205
CATEGORIES:Séminaire PS
END:VEVENT
BEGIN:VEVENT
DTSTART;TZID=Europe/Paris:20250414T110000
DTEND;TZID=Europe/Paris:20250414T120000
DTSTAMP:20260423T085434
CREATED:20250404T175459Z
LAST-MODIFIED:20250415T114658Z
UID:13945-1744628400-1744632000@lmv.math.cnrs.fr
SUMMARY:CRYPTO : Paco Azevedo Oliveira (LMV) : Quelques applications de la programmation linéaire à Dilithium
DESCRIPTION:Dilithium est un algorithme de signature\, réputé post-quantique\, et récemment standardisé sous le nom ML-DSA par le NIST. Dû à sa sécurité et à ses performances\, il est conseillé dans la plupart des cas d’usage.\n\nDurant cet exposé je présente les idées principales derrières deux travaux\, fait en collaboration avec Andersson Calle-Vierra\, Benoît Cogliati et Louis Goubin qui permettent de mieux\ncomprendre la sécurité pratique de Dilithium.\n\nJe montre qu’en introduisant une faute pendant la génération de la signature de Dilithium\, on peut forcer la personne qui signe à fournir des  signatures « incorrectes » qui donnent de l’information sur la clé secrète sous la forme d’inéquations sur ses coefficients.\nOn reformule ensuite le problème de retrouver la clé secrète à partir de signatures incorrectes en un problème de programmation linéaire.\n\nParmi les données de l’instance MLWE (A\,t)\, qui est au cœur de la construction de Dilithium\,\nla partie la moins significative de t — dénotée par t_0 — n’est pas incluse dans la clé publique et est formellement considérée comme une partie de la clé secrète. Connaître t_0 n’a aucun impact sur la sécurité boîte noire de Dilithium\, elle permet néanmoins de construire des attaques par canaux cachés beaucoup plus efficaces. J’explique les idées principales pour construire une attaque qui retrouve t0 à partir des signatures de Dilithium\, la encore en détournant des outils de programmation linéaire.\n\nCes deux résultats utilisent des techniques de programmation linéaire plus ou moins détournées de leurs usages traditionnels\, ce qui est plutôt rare pour de la cryptanalyse d’algorithmes à clé publique.
URL:https://lmv.math.cnrs.fr/evenenement/crypto-paco-azevedo-oliveira-quelques-applications-de-la-programmation-lineaire-a-dilithium/
LOCATION:Bâtiment Fermat\, salle 4205
CATEGORIES:Séminaire CRYPTO
END:VEVENT
BEGIN:VEVENT
DTSTART;TZID=Europe/Paris:20250422T163000
DTEND;TZID=Europe/Paris:20250422T173000
DTSTAMP:20260423T085434
CREATED:20250415T114925Z
LAST-MODIFIED:20250424T084353Z
UID:13959-1745339400-1745343000@lmv.math.cnrs.fr
SUMMARY:Séminaire des jeunes : Robert Szafarczyk (Université de Copenhague) : Ring quotients in homotopical algebra
DESCRIPTION:One of the hardest and most fundamental problems in topology is computing homotopy groups of spheres. One can simplify it a little by restricting to the stable range. This reveals a lot more structure: stable homotopy groups form a graded ring. We will argue that it is useful to make it into a « homotopical ring »\, where we do not phrase relations (like commutativity) in terms of equality\, but rather homotopy. We use this point of view to showcase a fundamental difference between algebra and homotopical algebra. In homotopical algebra\, ring quotients usually do not exist. This is an expository talk.
URL:https://lmv.math.cnrs.fr/evenenement/seminaire-des-jeunes-robert-szafarczyk-universite-de-copenhague-ring-quotients-in-homotopical-algebra/
LOCATION:Bâtiment Fermat\, salle 4205
CATEGORIES:Séminaire des jeunes
END:VEVENT
BEGIN:VEVENT
DTSTART;TZID=Europe/Paris:20250429T133000
DTEND;TZID=Europe/Paris:20250429T153000
DTSTAMP:20260423T085434
CREATED:20250427T163939Z
LAST-MODIFIED:20250509T085921Z
UID:14023-1745933400-1745940600@lmv.math.cnrs.fr
SUMMARY:AG : Dimitri Zvonkine (LMV) : Introduction mathématique à l'effet Hall quantique
DESCRIPTION:
URL:https://lmv.math.cnrs.fr/evenenement/ag-dimitri-zvonkine-lmv/
CATEGORIES:Séminaire AG
END:VEVENT
END:VCALENDAR