
BEGIN:VCALENDAR
VERSION:2.0
PRODID:-//Laboratoire de Mathématiques de Versailles - ECPv6.15.20//NONSGML v1.0//EN
CALSCALE:GREGORIAN
METHOD:PUBLISH
X-WR-CALNAME:Laboratoire de Mathématiques de Versailles
X-ORIGINAL-URL:https://lmv.math.cnrs.fr
X-WR-CALDESC:Évènements pour Laboratoire de Mathématiques de Versailles
REFRESH-INTERVAL;VALUE=DURATION:PT1H
X-Robots-Tag:noindex
X-PUBLISHED-TTL:PT1H
BEGIN:VTIMEZONE
TZID:Europe/Paris
BEGIN:DAYLIGHT
TZOFFSETFROM:+0100
TZOFFSETTO:+0200
TZNAME:CEST
DTSTART:20170326T010000
END:DAYLIGHT
BEGIN:STANDARD
TZOFFSETFROM:+0200
TZOFFSETTO:+0100
TZNAME:CET
DTSTART:20171029T010000
END:STANDARD
BEGIN:DAYLIGHT
TZOFFSETFROM:+0100
TZOFFSETTO:+0200
TZNAME:CEST
DTSTART:20180325T010000
END:DAYLIGHT
BEGIN:STANDARD
TZOFFSETFROM:+0200
TZOFFSETTO:+0100
TZNAME:CET
DTSTART:20181028T010000
END:STANDARD
BEGIN:DAYLIGHT
TZOFFSETFROM:+0100
TZOFFSETTO:+0200
TZNAME:CEST
DTSTART:20190331T010000
END:DAYLIGHT
BEGIN:STANDARD
TZOFFSETFROM:+0200
TZOFFSETTO:+0100
TZNAME:CET
DTSTART:20191027T010000
END:STANDARD
END:VTIMEZONE
BEGIN:VEVENT
DTSTART;VALUE=DATE:20180911
DTEND;VALUE=DATE:20180912
DTSTAMP:20260423T221509
CREATED:20190220T150812Z
LAST-MODIFIED:20190513T093101Z
UID:4222-1536624000-1536710399@lmv.math.cnrs.fr
SUMMARY:Journée du LMV du 11/09/2018
DESCRIPTION:Programme de la journée :\n\n10h30 : café (Salle du labo)\n\n\n11h10 – exposé d’Ana-Maria Castravet (Salle G105)\n11h 45 – exposé de Maelle Nodet (Salle G105)\n\n\n12h15 -14h : buffet (Salle du labo)\n\n\n14h : Assemblée Générale du laboratoire (Salle G105)
URL:https://lmv.math.cnrs.fr/evenenement/journee-du-lmv-11-septembre-2018/
CATEGORIES:Journée LMV
END:VEVENT
BEGIN:VEVENT
DTSTART;VALUE=DATE:20180920
DTEND;VALUE=DATE:20180921
DTSTAMP:20260423T221509
CREATED:20181221T104409Z
LAST-MODIFIED:20181221T104409Z
UID:3915-1537401600-1537487999@lmv.math.cnrs.fr
SUMMARY:Techmeeting #5 : Mathématiques appliquées pour les entreprises industrielles et de services
DESCRIPTION:Le jeudi 20 septembre 2018 après midi\, le LMV organise un techmeeting avec le soutien de la SATT Paris Saclay et la direction de la valorisation de l’UVSQ sur le thème des mathématiques appliquées pour les entreprises industrielles et de services. \nIl s’agit d’une rencontre entre différentes entreprises/start’up et les laboratoires de mathématiques du plateau de Saclay pour créer de futurs partenariats entre ces entités. \n– UFR des sciences\, amphi I et salle 2102 pour les présentations et les rencontres B2B. \n– Programme et formulaires de participation
URL:https://lmv.math.cnrs.fr/evenenement/techmeeting-5-mathematiques-appliquees-pour-les-entreprises-industrielles-et-de-services/
LOCATION:Bâtiment Fermat\, amphi I
CATEGORIES:Evénement scientifique
END:VEVENT
END:VCALENDAR