
BEGIN:VCALENDAR
VERSION:2.0
PRODID:-//Laboratoire de Mathématiques de Versailles - ECPv6.15.20//NONSGML v1.0//EN
CALSCALE:GREGORIAN
METHOD:PUBLISH
X-WR-CALNAME:Laboratoire de Mathématiques de Versailles
X-ORIGINAL-URL:https://lmv.math.cnrs.fr
X-WR-CALDESC:Évènements pour Laboratoire de Mathématiques de Versailles
REFRESH-INTERVAL;VALUE=DURATION:PT1H
X-Robots-Tag:noindex
X-PUBLISHED-TTL:PT1H
BEGIN:VTIMEZONE
TZID:Europe/Paris
BEGIN:DAYLIGHT
TZOFFSETFROM:+0100
TZOFFSETTO:+0200
TZNAME:CEST
DTSTART:20170326T010000
END:DAYLIGHT
BEGIN:STANDARD
TZOFFSETFROM:+0200
TZOFFSETTO:+0100
TZNAME:CET
DTSTART:20171029T010000
END:STANDARD
BEGIN:DAYLIGHT
TZOFFSETFROM:+0100
TZOFFSETTO:+0200
TZNAME:CEST
DTSTART:20180325T010000
END:DAYLIGHT
BEGIN:STANDARD
TZOFFSETFROM:+0200
TZOFFSETTO:+0100
TZNAME:CET
DTSTART:20181028T010000
END:STANDARD
BEGIN:DAYLIGHT
TZOFFSETFROM:+0100
TZOFFSETTO:+0200
TZNAME:CEST
DTSTART:20190331T010000
END:DAYLIGHT
BEGIN:STANDARD
TZOFFSETFROM:+0200
TZOFFSETTO:+0100
TZNAME:CET
DTSTART:20191027T010000
END:STANDARD
END:VTIMEZONE
BEGIN:VEVENT
DTSTART;VALUE=DATE:20180827
DTEND;VALUE=DATE:20180831
DTSTAMP:20260426T032011
CREATED:20181221T103042Z
LAST-MODIFIED:20190121T125545Z
UID:3908-1535328000-1535673599@lmv.math.cnrs.fr
SUMMARY:Birzeit 2018 Conference "Randomness\, Graphs\, Trees\, Walks\, Statistics"
DESCRIPTION:Le LMV était co-organisateur et sponsor de la conférence « Randomness\, Graphs\, Trees\, Walks\, Statistics » qui a eu lieu à Birzeit du 27 au 30 aout 2018. \nSite de la conférence\nArticle et quelques photos.
URL:https://lmv.math.cnrs.fr/evenenement/birzeit-2018-conference-randomness-graphs-trees-walks-statistics/
CATEGORIES:Evénement scientifique
END:VEVENT
END:VCALENDAR