
BEGIN:VCALENDAR
VERSION:2.0
PRODID:-//Laboratoire de Mathématiques de Versailles - ECPv6.15.20//NONSGML v1.0//EN
CALSCALE:GREGORIAN
METHOD:PUBLISH
X-WR-CALNAME:Laboratoire de Mathématiques de Versailles
X-ORIGINAL-URL:https://lmv.math.cnrs.fr
X-WR-CALDESC:Évènements pour Laboratoire de Mathématiques de Versailles
REFRESH-INTERVAL;VALUE=DURATION:PT1H
X-Robots-Tag:noindex
X-PUBLISHED-TTL:PT1H
BEGIN:VTIMEZONE
TZID:Europe/Paris
BEGIN:DAYLIGHT
TZOFFSETFROM:+0100
TZOFFSETTO:+0200
TZNAME:CEST
DTSTART:20220327T010000
END:DAYLIGHT
BEGIN:STANDARD
TZOFFSETFROM:+0200
TZOFFSETTO:+0100
TZNAME:CET
DTSTART:20221030T010000
END:STANDARD
BEGIN:DAYLIGHT
TZOFFSETFROM:+0100
TZOFFSETTO:+0200
TZNAME:CEST
DTSTART:20230326T010000
END:DAYLIGHT
BEGIN:STANDARD
TZOFFSETFROM:+0200
TZOFFSETTO:+0100
TZNAME:CET
DTSTART:20231029T010000
END:STANDARD
BEGIN:DAYLIGHT
TZOFFSETFROM:+0100
TZOFFSETTO:+0200
TZNAME:CEST
DTSTART:20240331T010000
END:DAYLIGHT
BEGIN:STANDARD
TZOFFSETFROM:+0200
TZOFFSETTO:+0100
TZNAME:CET
DTSTART:20241027T010000
END:STANDARD
END:VTIMEZONE
BEGIN:VEVENT
DTSTART;TZID=Europe/Paris:20230606T103000
DTEND;TZID=Europe/Paris:20230606T123000
DTSTAMP:20260424T061451
CREATED:20230605T131147Z
LAST-MODIFIED:20230612T124040Z
UID:11814-1686047400-1686054600@lmv.math.cnrs.fr
SUMMARY:Soutenance HDR de Clément de Seguin Pazzis : Géométrie affine des espaces de matrices
DESCRIPTION:Clément de Seguins Pazzis soutient son HDR intitulée « Géométrie affine des espaces de matrices ». \nRésumé de l’exposé \n 
URL:https://lmv.math.cnrs.fr/evenenement/soutenance-hdr-de-clement-de-seguin-pazzis-geometrie-affine-des-espaces-de-matrices/
LOCATION:Bâtiment Fermat\, amphi I
CATEGORIES:Soutenance HDR
END:VEVENT
END:VCALENDAR