
BEGIN:VCALENDAR
VERSION:2.0
PRODID:-//Laboratoire de Mathématiques de Versailles - ECPv6.15.20//NONSGML v1.0//EN
CALSCALE:GREGORIAN
METHOD:PUBLISH
X-WR-CALNAME:Laboratoire de Mathématiques de Versailles
X-ORIGINAL-URL:https://lmv.math.cnrs.fr
X-WR-CALDESC:Évènements pour Laboratoire de Mathématiques de Versailles
REFRESH-INTERVAL;VALUE=DURATION:PT1H
X-Robots-Tag:noindex
X-PUBLISHED-TTL:PT1H
BEGIN:VTIMEZONE
TZID:Europe/Paris
BEGIN:DAYLIGHT
TZOFFSETFROM:+0100
TZOFFSETTO:+0200
TZNAME:CEST
DTSTART:20250330T010000
END:DAYLIGHT
BEGIN:STANDARD
TZOFFSETFROM:+0200
TZOFFSETTO:+0100
TZNAME:CET
DTSTART:20251026T010000
END:STANDARD
BEGIN:DAYLIGHT
TZOFFSETFROM:+0100
TZOFFSETTO:+0200
TZNAME:CEST
DTSTART:20260329T010000
END:DAYLIGHT
BEGIN:STANDARD
TZOFFSETFROM:+0200
TZOFFSETTO:+0100
TZNAME:CET
DTSTART:20261025T010000
END:STANDARD
BEGIN:DAYLIGHT
TZOFFSETFROM:+0100
TZOFFSETTO:+0200
TZNAME:CEST
DTSTART:20270328T010000
END:DAYLIGHT
BEGIN:STANDARD
TZOFFSETFROM:+0200
TZOFFSETTO:+0100
TZNAME:CET
DTSTART:20271031T010000
END:STANDARD
END:VTIMEZONE
BEGIN:VEVENT
DTSTART;TZID=Europe/Paris:20260708T140000
DTEND;TZID=Europe/Paris:20260708T153000
DTSTAMP:20260421T234231
CREATED:20260410T085725Z
LAST-MODIFIED:20260416T132441Z
UID:14919-1783519200-1783524600@lmv.math.cnrs.fr
SUMMARY:Soutenance de thèse : Guillaume Rialland : Construction et dynamique des solitons et multi-solitons pour les équations de Schrödinger non-linéaire et de Zakharov
DESCRIPTION:Guillaume Rialland soutient sa thèse\,  intitulée « Construction et dynamique des solitons et multi-solitons pour les équations de Schrödinger non-linéaire et de Zakharov » encadrée par Yvan Martel\, le mercredi 8 juillet\, 14h\, bâtiment Fermat\, amphi I. \nRésumé : Dans un premier temps\, cette thèse étudie la stabilité asymptotique des petits solitons pour une des équations de Schrödinger 1D proches du cas cubique\, avec une perturbation semi-linéaire. Nous démontrons que\, suivant la perturbation\, le système linéarisé autour d’un soliton possède des fonctions propres non triviales (appelées modes internes) associées à une valeur propre imaginaire pure : ces fonctions sont un obstacle potentiel à la stabilité asymptotique. Nous établissons la stabilité asymptotique des petits solitons\, en exigeant une hypothèse supplémentaire (la “règle d’or de Fermi”) dans le cas où il existe un mode interne.\nNous étudions ensuite le système de Zakharov 1D\, un couplage Schrödinger-ondes qui peut se voir comme une autre perturbation de l’équation de Schrödinger cubique. Nous démontrons l’absence de mode interne et de résonance pour les petits solitons. \nDans un second temps\, cette thèse s’intéresse à la construction de solitons et multi-solitons pour le système de Zakharov 1D et 2D. En dimension 1\, les solitons de ce système sont explicites et leur stabilité orbitale est connue depuis les années 1990. Nous construisons ici des multi-solitons pour ce système\, c’est-à-dire des solutions du système se comportant asymptotiquement comme une somme de solitons indépendants se propageant à différentes vitesses.\nEn dimension 2\, nous démontrons l’existence d’ondes progressives pour le système de Zakharov pour des vitesses suffisamment petites. Ces solitons sont proches du soliton de Schrödinger et nous étudions leur comportement asymptotique.
URL:https://lmv.math.cnrs.fr/evenenement/soutenance-de-these-guillaume-rialland-construction-et-dynamique-des-solitons-et-multi-solitons-pour-les-equations-de-schrodinger-non-lineaire-et-de-zakharov/
LOCATION:Bâtiment Fermat\, amphi I
CATEGORIES:Soutenance de thèse
END:VEVENT
END:VCALENDAR