
BEGIN:VCALENDAR
VERSION:2.0
PRODID:-//Laboratoire de Mathématiques de Versailles - ECPv6.15.20//NONSGML v1.0//EN
CALSCALE:GREGORIAN
METHOD:PUBLISH
X-WR-CALNAME:Laboratoire de Mathématiques de Versailles
X-ORIGINAL-URL:https://lmv.math.cnrs.fr
X-WR-CALDESC:Évènements pour Laboratoire de Mathématiques de Versailles
REFRESH-INTERVAL;VALUE=DURATION:PT1H
X-Robots-Tag:noindex
X-PUBLISHED-TTL:PT1H
BEGIN:VTIMEZONE
TZID:Europe/Paris
BEGIN:DAYLIGHT
TZOFFSETFROM:+0100
TZOFFSETTO:+0200
TZNAME:CEST
DTSTART:20230326T010000
END:DAYLIGHT
BEGIN:STANDARD
TZOFFSETFROM:+0200
TZOFFSETTO:+0100
TZNAME:CET
DTSTART:20231029T010000
END:STANDARD
BEGIN:DAYLIGHT
TZOFFSETFROM:+0100
TZOFFSETTO:+0200
TZNAME:CEST
DTSTART:20240331T010000
END:DAYLIGHT
BEGIN:STANDARD
TZOFFSETFROM:+0200
TZOFFSETTO:+0100
TZNAME:CET
DTSTART:20241027T010000
END:STANDARD
BEGIN:DAYLIGHT
TZOFFSETFROM:+0100
TZOFFSETTO:+0200
TZNAME:CEST
DTSTART:20250330T010000
END:DAYLIGHT
BEGIN:STANDARD
TZOFFSETFROM:+0200
TZOFFSETTO:+0100
TZNAME:CET
DTSTART:20251026T010000
END:STANDARD
END:VTIMEZONE
BEGIN:VEVENT
DTSTART;TZID=Europe/Paris:20240125T140000
DTEND;TZID=Europe/Paris:20240125T150000
DTSTAMP:20260421T011144
CREATED:20231118T072123Z
LAST-MODIFIED:20240305T090235Z
UID:12281-1706191200-1706194800@lmv.math.cnrs.fr
SUMMARY:EDP : Charles Bertucci (Ecole Polytechnique) - Autour des master equations des jeux à champ moyen
DESCRIPTION:Sans trop m’appesantir sur les questions de jeux sous-jacentes\, j’introduirai la classe d’EDP que l’on appelle master equations dans la communauté des jeux à champ moyen. J’insisterai notamment sur la structure de ces équations\, qu’elles soient posées en dimension finie ou infinie. Je présenterai alors une théorie élémentaire\, à la Cauchy-Lipschitz de ces équations\, notamment en insistant sur le fait que la régularité cruciale de ces équations est une régularité Lipschitzienne. Je donnerai ensuite des hypothèses structurelles qui permettent d’obtenir des estimées a priori sur les constantes de Lipschitz des solutions. Cet exposé sera notamment basé sur des travaux en collaboration avec JM Lasry et PL Lions.
URL:https://lmv.math.cnrs.fr/evenenement/edp-charles-bertucci-ecole-polytechnique-titre-a-venir/
LOCATION:Bâtiment Fermat\, salle 4205
CATEGORIES:Séminaire EDP
END:VEVENT
BEGIN:VEVENT
DTSTART;TZID=Europe/Paris:20240125T153000
DTEND;TZID=Europe/Paris:20240125T163000
DTSTAMP:20260421T011144
CREATED:20230918T092653Z
LAST-MODIFIED:20240305T090220Z
UID:11954-1706196600-1706200200@lmv.math.cnrs.fr
SUMMARY:EDP : Eliot Pacherie (université de Cergy) - Profils asymptotiques pour l'équation de Burgers visqueux avec masse infini
DESCRIPTION:Dans cet exposé\, on s’intéressera à l’équation de Burgers visqueux sur l’axe réel avec des données initiales qui décroissent lentement\, en particulier avec une masse totale infinie. On démontrera que en temps long\, pour certaines de ces données initiales la solution converge\, après un rescaling\, vers un profil limite\, avec deux propriétés inattendues:\n1) la solution de Burgers visqueux converge vers 0 plus vite que la solution de la chaleur pour la même donnée initiale\, c’est à dire que le terme de transport non linéaire améliore la dissipation\n2) le profil a une discontinuité qui peut s’interpréter comme une couche limite. Autrement dit\, Il y a deux échelles.\nIl s’agit de travaux en collaboration avec Tej-Eddine Ghoul et Nader Masmoudi.
URL:https://lmv.math.cnrs.fr/evenenement/edp-eliot-pacherie-universite-de-cergy-titre-a-venir/
LOCATION:Bâtiment Fermat\, salle 4205
CATEGORIES:Séminaire EDP
END:VEVENT
END:VCALENDAR