
BEGIN:VCALENDAR
VERSION:2.0
PRODID:-//Laboratoire de Mathématiques de Versailles - ECPv6.15.20//NONSGML v1.0//EN
CALSCALE:GREGORIAN
METHOD:PUBLISH
X-WR-CALNAME:Laboratoire de Mathématiques de Versailles
X-ORIGINAL-URL:https://lmv.math.cnrs.fr
X-WR-CALDESC:Évènements pour Laboratoire de Mathématiques de Versailles
REFRESH-INTERVAL;VALUE=DURATION:PT1H
X-Robots-Tag:noindex
X-PUBLISHED-TTL:PT1H
BEGIN:VTIMEZONE
TZID:Europe/Paris
BEGIN:DAYLIGHT
TZOFFSETFROM:+0100
TZOFFSETTO:+0200
TZNAME:CEST
DTSTART:20210328T010000
END:DAYLIGHT
BEGIN:STANDARD
TZOFFSETFROM:+0200
TZOFFSETTO:+0100
TZNAME:CET
DTSTART:20211031T010000
END:STANDARD
BEGIN:DAYLIGHT
TZOFFSETFROM:+0100
TZOFFSETTO:+0200
TZNAME:CEST
DTSTART:20220327T010000
END:DAYLIGHT
BEGIN:STANDARD
TZOFFSETFROM:+0200
TZOFFSETTO:+0100
TZNAME:CET
DTSTART:20221030T010000
END:STANDARD
BEGIN:DAYLIGHT
TZOFFSETFROM:+0100
TZOFFSETTO:+0200
TZNAME:CEST
DTSTART:20230326T010000
END:DAYLIGHT
BEGIN:STANDARD
TZOFFSETFROM:+0200
TZOFFSETTO:+0100
TZNAME:CET
DTSTART:20231029T010000
END:STANDARD
END:VTIMEZONE
BEGIN:VEVENT
DTSTART;TZID=Europe/Paris:20221020T153000
DTEND;TZID=Europe/Paris:20221020T180000
DTSTAMP:20260419T171925
CREATED:20220922T133854Z
LAST-MODIFIED:20221021T135959Z
UID:10789-1666279800-1666288800@lmv.math.cnrs.fr
SUMMARY:Bibliothèque LMV : HALathon\, à l'occasion de l'Open Science Month
DESCRIPTION:Dans le cadre de l’Open Science Mounth organisé par Paris-Saclay en octobre 2022\, le service recherche de la DBIST souhaite organiser un HALathon en partenariat avec les différents laboratoires de l’Université. \nL’équipe HAL viendra au LMV\, pour présenter les enjeux de la Science ouverte aux chercheurs et les accompagner pour déposer un maximum d’articles en Open Access dans HAL. N’hésitez pas à apporter vos articles sur un ordinateur ou sur une clé USB. \nCe moment d’échange aura lieu le jeudi 20 octobre 2022\, de 15h30 à 18h\, en salle visio 4310. \n  \n  \n  \n  \n  \n  \nL’Open Science Mounth à Paris-Saclay\, c’est aussi des webinaires sur différents thèmes liés à la Science Ouverte : Programme et inscription \n 
URL:https://lmv.math.cnrs.fr/evenenement/halathon/
LOCATION:Bâtiment Fermat\, salle 4310
CATEGORIES:Evenement bibliothèque LMV
END:VEVENT
END:VCALENDAR