
BEGIN:VCALENDAR
VERSION:2.0
PRODID:-//Laboratoire de Mathématiques de Versailles - ECPv6.15.20//NONSGML v1.0//EN
CALSCALE:GREGORIAN
METHOD:PUBLISH
X-WR-CALNAME:Laboratoire de Mathématiques de Versailles
X-ORIGINAL-URL:https://lmv.math.cnrs.fr
X-WR-CALDESC:Évènements pour Laboratoire de Mathématiques de Versailles
REFRESH-INTERVAL;VALUE=DURATION:PT1H
X-Robots-Tag:noindex
X-PUBLISHED-TTL:PT1H
BEGIN:VTIMEZONE
TZID:Europe/Paris
BEGIN:DAYLIGHT
TZOFFSETFROM:+0100
TZOFFSETTO:+0200
TZNAME:CEST
DTSTART:20250330T010000
END:DAYLIGHT
BEGIN:STANDARD
TZOFFSETFROM:+0200
TZOFFSETTO:+0100
TZNAME:CET
DTSTART:20251026T010000
END:STANDARD
BEGIN:DAYLIGHT
TZOFFSETFROM:+0100
TZOFFSETTO:+0200
TZNAME:CEST
DTSTART:20260329T010000
END:DAYLIGHT
BEGIN:STANDARD
TZOFFSETFROM:+0200
TZOFFSETTO:+0100
TZNAME:CET
DTSTART:20261025T010000
END:STANDARD
BEGIN:DAYLIGHT
TZOFFSETFROM:+0100
TZOFFSETTO:+0200
TZNAME:CEST
DTSTART:20270328T010000
END:DAYLIGHT
BEGIN:STANDARD
TZOFFSETFROM:+0200
TZOFFSETTO:+0100
TZNAME:CET
DTSTART:20271031T010000
END:STANDARD
END:VTIMEZONE
BEGIN:VEVENT
DTSTART;TZID=Europe/Paris:20260421T160000
DTEND;TZID=Europe/Paris:20260421T170000
DTSTAMP:20260421T092521
CREATED:20260416T132802Z
LAST-MODIFIED:20260417T082420Z
UID:14948-1776787200-1776790800@lmv.math.cnrs.fr
SUMMARY:Séminaire des jeunes : Antonin Casel (LMV) : Algèbres à division\, quaternions et groupes de Brauer
DESCRIPTION:Résumé : Dans cet exposé\, nous donnerons un point de vue d’ensemble de la théorie des algèbres centrales simples et du groupe de Brauer d’un corps. L’exposé sera guidé par l’étude des quaternions et l’étude d’exemples issus de la théorie des nombres. \nIn this talk\, we will give a overall view of the theory of central simple algebras and of the Brauer group of a field. We will use as guidelines the example of quaternion algebras and some examples provided by number theory.
URL:https://lmv.math.cnrs.fr/evenenement/seminaire-des-jeunes-antonin-casel-lmv-algebres-a-division-quaternions-et-groupes-de-brauer/
LOCATION:Bâtiment Fermat\, salle 4205
CATEGORIES:Séminaire des jeunes
END:VEVENT
END:VCALENDAR