
BEGIN:VCALENDAR
VERSION:2.0
PRODID:-//Laboratoire de Mathématiques de Versailles - ECPv6.15.20//NONSGML v1.0//EN
CALSCALE:GREGORIAN
METHOD:PUBLISH
X-WR-CALNAME:Laboratoire de Mathématiques de Versailles
X-ORIGINAL-URL:https://lmv.math.cnrs.fr
X-WR-CALDESC:Évènements pour Laboratoire de Mathématiques de Versailles
REFRESH-INTERVAL;VALUE=DURATION:PT1H
X-Robots-Tag:noindex
X-PUBLISHED-TTL:PT1H
BEGIN:VTIMEZONE
TZID:Europe/Paris
BEGIN:DAYLIGHT
TZOFFSETFROM:+0100
TZOFFSETTO:+0200
TZNAME:CEST
DTSTART:20250330T010000
END:DAYLIGHT
BEGIN:STANDARD
TZOFFSETFROM:+0200
TZOFFSETTO:+0100
TZNAME:CET
DTSTART:20251026T010000
END:STANDARD
BEGIN:DAYLIGHT
TZOFFSETFROM:+0100
TZOFFSETTO:+0200
TZNAME:CEST
DTSTART:20260329T010000
END:DAYLIGHT
BEGIN:STANDARD
TZOFFSETFROM:+0200
TZOFFSETTO:+0100
TZNAME:CET
DTSTART:20261025T010000
END:STANDARD
BEGIN:DAYLIGHT
TZOFFSETFROM:+0100
TZOFFSETTO:+0200
TZNAME:CEST
DTSTART:20270328T010000
END:DAYLIGHT
BEGIN:STANDARD
TZOFFSETFROM:+0200
TZOFFSETTO:+0100
TZNAME:CET
DTSTART:20271031T010000
END:STANDARD
END:VTIMEZONE
BEGIN:VEVENT
DTSTART;TZID=Europe/Paris:20260420T110000
DTEND;TZID=Europe/Paris:20260420T120000
DTSTAMP:20260420T152357
CREATED:20260413T180747Z
LAST-MODIFIED:20260417T082413Z
UID:14939-1776682800-1776686400@lmv.math.cnrs.fr
SUMMARY:CRYPTO - Pierre Varjabédian - Multivariate Encryptions with LL' perturbations
DESCRIPTION:Multivariate Encryptions with LL’ perturbations\n\nRésumé:\n\n\nA new interesting multivariate encryption scheme. Few multivariate encryption schemes currently exist\, while there exist many more multivariate signature schemes. Our algorithms will combine several ideas\, in particular the idea of the LL’ perturbation originally introduced\, but only for signatures\, by Gouget and Patarin in Vietcrypt 2006.\n\nIn this paper\, the LL’ perturbation will be used for encryption and will differ greatly from the paper by Gouget and Patarin. As we will see\, our algorithms resist all known attacks (in particular Gröbner attacks and MinRank attacks) and have reasonable computation times.\n\n\n\nLe séminaire sera aussi retranscrit en visio avec le lien suivant:\n\n\n\n\n\n\n\nSujet: Séminaire Pierre Varjabedian\nHeure: 20 avr. 2026 11:00 AM Paris\nParticiper à la réunion Zoom\nhttps://uvsq-fr.zoom.us/j/93830405053?pwd=oHWRB6doOVaM48F2y6hcbMMyQTs7ib.1\n\nID de réunion: 938 3040 5053\nCode secret: 414582
URL:https://lmv.math.cnrs.fr/evenenement/crypto-pierre-varjabedian-multivariate-encryptions-with-ll-perturbations/
LOCATION:Bâtiment Fermat\, salle 4205
CATEGORIES:Séminaire CRYPTO
END:VEVENT
END:VCALENDAR